BEGIN:VCALENDAR
VERSION:2.0
PRODID:icalendar-ruby
CALSCALE:GREGORIAN
METHOD:PUBLISH
BEGIN:VEVENT
DTSTAMP:20260421T172058Z
UID:6cd82264-a475-49da-a404-cf54821c7dff
DTSTART;VALUE=DATE:20240609
DTEND;VALUE=DATE:20240609
DESCRIPTION:Hornet`s Nest BMX
LOCATION:6301 Beatties Ford Rd  Charlotte NC 28216 USA
SUMMARY:Local Race Single
URL:/site/bmx_races/539747
END:VEVENT
END:VCALENDAR
