BEGIN:VCALENDAR
VERSION:2.0
PRODID:icalendar-ruby
CALSCALE:GREGORIAN
METHOD:PUBLISH
BEGIN:VEVENT
DTSTAMP:20260421T172145Z
UID:4eb1285d-bd26-48e0-8469-f0615e3f6fab
DTSTART;VALUE=DATE:20240622
DTEND;VALUE=DATE:20240622
DESCRIPTION:Hornet`s Nest BMX
LOCATION:6301 Beatties Ford Rd  Charlotte NC 28216 USA
SUMMARY:Practice
URL:/site/bmx_races/539750
END:VEVENT
END:VCALENDAR
