BEGIN:VCALENDAR
VERSION:2.0
PRODID:icalendar-ruby
CALSCALE:GREGORIAN
METHOD:PUBLISH
BEGIN:VEVENT
DTSTAMP:20260422T013226Z
UID:7d8040b9-01c2-4bbd-b8be-50ea60363f9b
DTSTART;VALUE=DATE:20241103
DTEND;VALUE=DATE:20241103
DESCRIPTION:Hornet`s Nest BMX
LOCATION:6301 Beatties Ford Rd  Charlotte NC 28216 USA
SUMMARY:Local Race Single
URL:/site/bmx_races/539789
END:VEVENT
END:VCALENDAR
