BEGIN:VCALENDAR
VERSION:2.0
PRODID:icalendar-ruby
CALSCALE:GREGORIAN
METHOD:PUBLISH
BEGIN:VEVENT
DTSTAMP:20260422T013129Z
UID:e53c438c-0bc2-48df-ba9d-aeebbee1f918
DTSTART;VALUE=DATE:20241117
DTEND;VALUE=DATE:20241117
DESCRIPTION:Hornet`s Nest BMX
LOCATION:6301 Beatties Ford Rd  Charlotte NC 28216 USA
SUMMARY:Local Race Single
URL:/site/bmx_races/539793
END:VEVENT
END:VCALENDAR
