BEGIN:VCALENDAR
VERSION:2.0
PRODID:icalendar-ruby
CALSCALE:GREGORIAN
METHOD:PUBLISH
BEGIN:VEVENT
DTSTAMP:20260422T013220Z
UID:6e0c301c-7cbd-4c43-8a8b-0a2ef43917d4
DTSTART;VALUE=DATE:20241124
DTEND;VALUE=DATE:20241124
DESCRIPTION:Hornet`s Nest BMX
LOCATION:6301 Beatties Ford Rd  Charlotte NC 28216 USA
SUMMARY:Local Race Single
URL:/site/bmx_races/539795
END:VEVENT
END:VCALENDAR
