BEGIN:VCALENDAR
VERSION:2.0
PRODID:icalendar-ruby
CALSCALE:GREGORIAN
METHOD:PUBLISH
BEGIN:VEVENT
DTSTAMP:20260422T025742Z
UID:33a0d79f-265e-47dc-b8e7-67153ed726ca
DTSTART;VALUE=DATE:20241214
DTEND;VALUE=DATE:20241214
DESCRIPTION:Hornet`s Nest BMX
LOCATION:6301 Beatties Ford Rd  Charlotte NC 28216 USA
SUMMARY:Practice
URL:/site/bmx_races/539800
END:VEVENT
END:VCALENDAR
