BEGIN:VCALENDAR
VERSION:2.0
PRODID:icalendar-ruby
CALSCALE:GREGORIAN
METHOD:PUBLISH
BEGIN:VEVENT
DTSTAMP:20260424T174442Z
UID:803b9b32-47a5-4f0d-b112-909e19f0fe6f
DTSTART;VALUE=DATE:20231022
DTEND;VALUE=DATE:20231022
DESCRIPTION:Squamish BMX Racing Track
LOCATION:1009 Centennial Way  Squamish BC V0N1T0 CAN
SUMMARY:Local Race Single
URL:/site/bmx_races/540916
END:VEVENT
END:VCALENDAR
