BEGIN:VCALENDAR
VERSION:2.0
PRODID:icalendar-ruby
CALSCALE:GREGORIAN
METHOD:PUBLISH
BEGIN:VEVENT
DTSTAMP:20260420T234755Z
UID:d4d90cd0-3aac-428a-85a3-9573241eaf17
DTSTART;VALUE=DATE:20240715
DTEND;VALUE=DATE:20240715
DESCRIPTION:Marysville BMX
LOCATION:618 N Main St  Marysville OH 43040 USA
SUMMARY:Practice
URL:/site/bmx_races/541256
END:VEVENT
END:VCALENDAR
