BEGIN:VCALENDAR
VERSION:2.0
PRODID:icalendar-ruby
CALSCALE:GREGORIAN
METHOD:PUBLISH
BEGIN:VEVENT
DTSTAMP:20260420T153047Z
UID:b508b0fd-f652-45f7-b97a-ac3ed8edd810
DTSTART;VALUE=DATE:20241102
DTEND;VALUE=DATE:20241102
DESCRIPTION:Marysville BMX
LOCATION:618 N Main St  Marysville OH 43040 USA
SUMMARY:Local Race Single
URL:/site/bmx_races/541299
END:VEVENT
END:VCALENDAR
