BEGIN:VCALENDAR
VERSION:2.0
PRODID:icalendar-ruby
CALSCALE:GREGORIAN
METHOD:PUBLISH
BEGIN:VEVENT
DTSTAMP:20260421T012606Z
UID:b69d5263-d0bd-45d1-afe4-77424e831005
DTSTART;VALUE=DATE:20240619
DTEND;VALUE=DATE:20240619
DESCRIPTION:Marysville BMX
LOCATION:618 N Main St  Marysville OH 43040 USA
SUMMARY:Local Race Single
URL:/site/bmx_races/541303
END:VEVENT
END:VCALENDAR
