BEGIN:VCALENDAR
VERSION:2.0
PRODID:icalendar-ruby
CALSCALE:GREGORIAN
METHOD:PUBLISH
BEGIN:VEVENT
DTSTAMP:20260420T232453Z
UID:0175da90-b9a6-4fd5-9df2-78270b0f79fe
DTSTART;VALUE=DATE:20241016
DTEND;VALUE=DATE:20241016
DESCRIPTION:Hagerstown BMX
LOCATION:Fairground Ave & Cross St  Hagerstown MD 21740 USA
SUMMARY:Local Race Single
URL:/site/bmx_races/541570
END:VEVENT
END:VCALENDAR
