BEGIN:VCALENDAR
VERSION:2.0
PRODID:icalendar-ruby
CALSCALE:GREGORIAN
METHOD:PUBLISH
BEGIN:VEVENT
DTSTAMP:20260420T232412Z
UID:47756dcf-cd64-4337-b5f9-8fb7eda1be6e
DTSTART;VALUE=DATE:20241030
DTEND;VALUE=DATE:20241030
DESCRIPTION:Hagerstown BMX
LOCATION:Fairground Ave & Cross St  Hagerstown MD 21740 USA
SUMMARY:Local Race Single
URL:/site/bmx_races/541575
END:VEVENT
END:VCALENDAR
