BEGIN:VCALENDAR
VERSION:2.0
PRODID:icalendar-ruby
CALSCALE:GREGORIAN
METHOD:PUBLISH
BEGIN:VEVENT
DTSTAMP:20260425T004804Z
UID:cb0496fe-b66a-4f34-8409-c6e6e9930482
DTSTART;VALUE=DATE:20130330
DTEND;VALUE=DATE:20130330
DESCRIPTION:Sports Park BMX
LOCATION:6901 N Casa Grande Highway  Tucson AZ 85743 USA
SUMMARY:Local Race Single
URL:/site/bmx_races/54224
END:VEVENT
END:VCALENDAR
