BEGIN:VCALENDAR
VERSION:2.0
PRODID:icalendar-ruby
CALSCALE:GREGORIAN
METHOD:PUBLISH
BEGIN:VEVENT
DTSTAMP:20260420T094730Z
UID:08e1de3b-185c-4133-93a1-e89bfa4766c2
DTSTART;VALUE=DATE:20240430
DTEND;VALUE=DATE:20240430
DESCRIPTION:Westmoreland BMX
LOCATION:200 Park Road  Apollo PA 15613 USA
SUMMARY:Local Race Single
URL:/site/bmx_races/542252
END:VEVENT
END:VCALENDAR
