BEGIN:VCALENDAR
VERSION:2.0
PRODID:icalendar-ruby
CALSCALE:GREGORIAN
METHOD:PUBLISH
BEGIN:VEVENT
DTSTAMP:20260424T232208Z
UID:62f11f4a-19c5-419a-bda8-246e24fa20b4
DTSTART;VALUE=DATE:20130407
DTEND;VALUE=DATE:20130407
DESCRIPTION:Sports Park BMX
LOCATION:6901 N Casa Grande Highway  Tucson AZ 85743 USA
SUMMARY:Local Race Single
URL:/site/bmx_races/54227
END:VEVENT
END:VCALENDAR
