BEGIN:VCALENDAR
VERSION:2.0
PRODID:icalendar-ruby
CALSCALE:GREGORIAN
METHOD:PUBLISH
BEGIN:VEVENT
DTSTAMP:20260420T132333Z
UID:310e8174-9d6f-42a0-8d79-19432574d1b5
DTSTART;VALUE=DATE:20241026
DTEND;VALUE=DATE:20241026
DESCRIPTION:Twin Silo BMX
LOCATION:5400 Ziegler Rd.   Ft Collins CO 80528 USA
SUMMARY:Local Race Single
URL:/site/bmx_races/542918
END:VEVENT
END:VCALENDAR
