BEGIN:VCALENDAR
VERSION:2.0
PRODID:icalendar-ruby
CALSCALE:GREGORIAN
METHOD:PUBLISH
BEGIN:VEVENT
DTSTAMP:20260425T154150Z
UID:ab1c00fe-a745-43ea-a614-a3a39c54ab0c
DTSTART;VALUE=DATE:20241211
DTEND;VALUE=DATE:20241211
DESCRIPTION:Hanford BMX
LOCATION:501 S Brown St  Hanford CA 93230 USA
SUMMARY:Local Race Single
URL:/site/bmx_races/543513
END:VEVENT
END:VCALENDAR
