BEGIN:VCALENDAR
VERSION:2.0
PRODID:icalendar-ruby
CALSCALE:GREGORIAN
METHOD:PUBLISH
BEGIN:VEVENT
DTSTAMP:20260421T091827Z
UID:beddcba9-a304-4575-82de-c0eb0d6438b3
DTSTART;VALUE=DATE:20240225
DTEND;VALUE=DATE:20240225
DESCRIPTION:Boulder BMX\, Inc
LOCATION:1799 Commons Way  Boulder City NV 89005 USA
SUMMARY:State Race Double
URL:/site/bmx_races/547518
END:VEVENT
END:VCALENDAR
