BEGIN:VCALENDAR
VERSION:2.0
PRODID:icalendar-ruby
CALSCALE:GREGORIAN
METHOD:PUBLISH
BEGIN:VEVENT
DTSTAMP:20260421T080200Z
UID:7a6797ef-a5dc-4570-b675-8188e348dc8a
DTSTART;VALUE=DATE:20240325
DTEND;VALUE=DATE:20240325
DESCRIPTION:Derby City BMX
LOCATION:3000 Freys Hill Rd  Louisville KY 40241 USA
SUMMARY:Practice
URL:/site/bmx_races/547778
END:VEVENT
END:VCALENDAR
