BEGIN:VCALENDAR
VERSION:2.0
PRODID:icalendar-ruby
CALSCALE:GREGORIAN
METHOD:PUBLISH
BEGIN:VEVENT
DTSTAMP:20260420T184411Z
UID:83ef8b91-732a-4ab7-bfdc-ea1b7ac05f5d
DTSTART;VALUE=DATE:20241126
DTEND;VALUE=DATE:20241126
DESCRIPTION:Omaha BMX
LOCATION:11111 W Maple Rd  Omaha NE 68164 USA
SUMMARY:Practice
URL:/site/bmx_races/548332
END:VEVENT
END:VCALENDAR
