BEGIN:VCALENDAR
VERSION:2.0
PRODID:icalendar-ruby
CALSCALE:GREGORIAN
METHOD:PUBLISH
BEGIN:VEVENT
DTSTAMP:20260421T222312Z
UID:ac3ba48b-34cb-4258-8173-2cda3320462c
DTSTART;VALUE=DATE:20240723
DTEND;VALUE=DATE:20240723
DESCRIPTION:Red River BMX
LOCATION:1490 S. 42nd Street  Grand Forks ND 58201 USA
SUMMARY:Local Race Single
URL:/site/bmx_races/548906
END:VEVENT
END:VCALENDAR
