BEGIN:VCALENDAR
VERSION:2.0
PRODID:icalendar-ruby
CALSCALE:GREGORIAN
METHOD:PUBLISH
BEGIN:VEVENT
DTSTAMP:20260423T203315Z
UID:e8796711-5465-4d7f-9c61-ca63b02a59c0
DTSTART;VALUE=DATE:20241005
DTEND;VALUE=DATE:20241005
DESCRIPTION:Valley BMX
LOCATION:Myron Ln.  Off Wilawana Rd Athens PA 18840 USA
SUMMARY:Local Race Single
URL:/site/bmx_races/550807
END:VEVENT
END:VCALENDAR
