BEGIN:VCALENDAR
VERSION:2.0
PRODID:icalendar-ruby
CALSCALE:GREGORIAN
METHOD:PUBLISH
BEGIN:VEVENT
DTSTAMP:20260424T082124Z
UID:c3e95b00-bd96-4dd5-a584-339b0b7e76cf
DTSTART;VALUE=DATE:20231209
DTEND;VALUE=DATE:20231209
DESCRIPTION:Chehalem Valley BMX
LOCATION:1201 Blaine St  Newberg OR 97132 USA
SUMMARY:Local Race Single
URL:/site/bmx_races/551434
END:VEVENT
END:VCALENDAR
