BEGIN:VCALENDAR
VERSION:2.0
PRODID:icalendar-ruby
CALSCALE:GREGORIAN
METHOD:PUBLISH
BEGIN:VEVENT
DTSTAMP:20260420T041614Z
UID:2883a9f8-8116-471c-857f-55e858e2315e
DTSTART;VALUE=DATE:20240723
DTEND;VALUE=DATE:20240723
DESCRIPTION:Fountain City BMX
LOCATION:David D. Whetstone Jr. Sports Complex     County Road 4 W Prattvil
 le AL 36066 USA
SUMMARY:Practice
URL:/site/bmx_races/551662
END:VEVENT
END:VCALENDAR
