BEGIN:VCALENDAR
VERSION:2.0
PRODID:icalendar-ruby
CALSCALE:GREGORIAN
METHOD:PUBLISH
BEGIN:VEVENT
DTSTAMP:20260420T005809Z
UID:db1a5851-35e5-462f-8100-43be3414b6d4
DTSTART;VALUE=DATE:20240922
DTEND;VALUE=DATE:20240922
DESCRIPTION:Fountain City BMX
LOCATION:David D. Whetstone Jr. Sports Complex     County Road 4 W Prattvil
 le AL 36066 USA
SUMMARY:Local Race Single
URL:/site/bmx_races/551686
END:VEVENT
END:VCALENDAR
