BEGIN:VCALENDAR
VERSION:2.0
PRODID:icalendar-ruby
CALSCALE:GREGORIAN
METHOD:PUBLISH
BEGIN:VEVENT
DTSTAMP:20260420T054718Z
UID:f881593c-9e81-4a10-8043-385c9b33af73
DTSTART;VALUE=DATE:20240602
DTEND;VALUE=DATE:20240602
DESCRIPTION:Fountain City BMX
LOCATION:David D. Whetstone Jr. Sports Complex     County Road 4 W Prattvil
 le AL 36066 USA
SUMMARY:BMX Registration Day Single
URL:/site/bmx_races/551983
END:VEVENT
END:VCALENDAR
