BEGIN:VCALENDAR
VERSION:2.0
PRODID:icalendar-ruby
CALSCALE:GREGORIAN
METHOD:PUBLISH
BEGIN:VEVENT
DTSTAMP:20260419T214249Z
UID:e87a9ebc-f94a-4a06-8537-ec09731af58f
DTSTART;VALUE=DATE:20231203
DTEND;VALUE=DATE:20231203
DESCRIPTION:Richmond BMX
LOCATION:4401 Hobbs Lane   Next To Church Richmond VA 23231 USA
SUMMARY:Local Race Single
URL:/site/bmx_races/552009
END:VEVENT
END:VCALENDAR
