BEGIN:VCALENDAR
VERSION:2.0
PRODID:icalendar-ruby
CALSCALE:GREGORIAN
METHOD:PUBLISH
BEGIN:VEVENT
DTSTAMP:20260421T154212Z
UID:c644f430-dfd3-46c1-a540-bc60a3de1a63
DTSTART;VALUE=DATE:20231203
DTEND;VALUE=DATE:20231203
DESCRIPTION:Rock Island Indoor BMX
LOCATION:2621 4th Ave  Rock Island IL 61201 USA
SUMMARY:Earned Double
URL:/site/bmx_races/552532
END:VEVENT
END:VCALENDAR
