BEGIN:VCALENDAR
VERSION:2.0
PRODID:icalendar-ruby
CALSCALE:GREGORIAN
METHOD:PUBLISH
BEGIN:VEVENT
DTSTAMP:20260423T230054Z
UID:8b8713c6-b5b7-45f6-8cb4-bf610a3e51b3
DTSTART;VALUE=DATE:20231128
DTEND;VALUE=DATE:20231128
DESCRIPTION:River City BMX
LOCATION:251 Ne Agness  Grants Pass OR 97526 USA
SUMMARY:Local Race Single
URL:/site/bmx_races/553073
END:VEVENT
END:VCALENDAR
