BEGIN:VCALENDAR
VERSION:2.0
PRODID:icalendar-ruby
CALSCALE:GREGORIAN
METHOD:PUBLISH
BEGIN:VEVENT
DTSTAMP:20260421T014911Z
UID:e8197cc2-3504-4770-b64e-e811ce57bea0
DTSTART;VALUE=DATE:20240618
DTEND;VALUE=DATE:20240618
DESCRIPTION:Southern Maryland BMX
LOCATION:26600 Budds Creek Rd  Mechanicsville MD 20659 USA
SUMMARY:Local Race Single
URL:/site/bmx_races/553307
END:VEVENT
END:VCALENDAR
