BEGIN:VCALENDAR
VERSION:2.0
PRODID:icalendar-ruby
CALSCALE:GREGORIAN
METHOD:PUBLISH
BEGIN:VEVENT
DTSTAMP:20260425T144809Z
UID:07be81e2-7caf-421c-8eb6-c67398096b18
DTSTART;VALUE=DATE:20241010
DTEND;VALUE=DATE:20241010
DESCRIPTION:Winchester BMX
LOCATION:1001 E. Cork Street  Winchester VA 22601 USA
SUMMARY:Practice
URL:/site/bmx_races/554394
END:VEVENT
END:VCALENDAR
