BEGIN:VCALENDAR
VERSION:2.0
PRODID:icalendar-ruby
CALSCALE:GREGORIAN
METHOD:PUBLISH
BEGIN:VEVENT
DTSTAMP:20260421T220052Z
UID:d850df92-4583-4f5f-85d8-9365dbe80b7b
DTSTART;VALUE=DATE:20240201
DTEND;VALUE=DATE:20240201
DESCRIPTION:Tucson BMX
LOCATION:9245 E Irvington  Tucson AZ 85730 USA
SUMMARY:Practice
URL:/site/bmx_races/554752
END:VEVENT
END:VCALENDAR
