BEGIN:VCALENDAR
VERSION:2.0
PRODID:icalendar-ruby
CALSCALE:GREGORIAN
METHOD:PUBLISH
BEGIN:VEVENT
DTSTAMP:20260421T172046Z
UID:40ae1174-4b82-4d57-b6d7-44f4c609877b
DTSTART;VALUE=DATE:20240503
DTEND;VALUE=DATE:20240503
DESCRIPTION:Tucson BMX
LOCATION:9245 E Irvington  Tucson AZ 85730 USA
SUMMARY:Local Race Single
URL:/site/bmx_races/554778
END:VEVENT
END:VCALENDAR
