BEGIN:VCALENDAR
VERSION:2.0
PRODID:icalendar-ruby
CALSCALE:GREGORIAN
METHOD:PUBLISH
BEGIN:VEVENT
DTSTAMP:20260420T143709Z
UID:947c5618-405e-4f9d-8c5f-46231d557673
DTSTART;VALUE=DATE:20240628
DTEND;VALUE=DATE:20240628
DESCRIPTION:Drake Well BMX
LOCATION:516 Allen St  Titusville PA 16354 USA
SUMMARY:Race for Life Single
URL:/site/bmx_races/556149
END:VEVENT
END:VCALENDAR
