BEGIN:VCALENDAR
VERSION:2.0
PRODID:icalendar-ruby
CALSCALE:GREGORIAN
METHOD:PUBLISH
BEGIN:VEVENT
DTSTAMP:20260420T143535Z
UID:e9d5ca57-44a1-4c8c-8f56-3f7dcca0e595
DTSTART;VALUE=DATE:20240110
DTEND;VALUE=DATE:20240110
DESCRIPTION:Grand Prix BMX at SoCal Fair
LOCATION:18700 Lake Perris Dr  Perris CA 92571 USA
SUMMARY:Local Race Single
URL:/site/bmx_races/557344
END:VEVENT
END:VCALENDAR
