BEGIN:VCALENDAR
VERSION:2.0
PRODID:icalendar-ruby
CALSCALE:GREGORIAN
METHOD:PUBLISH
BEGIN:VEVENT
DTSTAMP:20260421T003727Z
UID:5ee81d54-ad0f-4f6c-a6eb-063749aaa99e
DTSTART;VALUE=DATE:20240715
DTEND;VALUE=DATE:20240715
DESCRIPTION:Razor City BMX
LOCATION:200 Pumphouse Ln  Gillette WY 82716 USA
SUMMARY:Local Race Single
URL:/site/bmx_races/557521
END:VEVENT
END:VCALENDAR
