BEGIN:VCALENDAR
VERSION:2.0
PRODID:icalendar-ruby
CALSCALE:GREGORIAN
METHOD:PUBLISH
BEGIN:VEVENT
DTSTAMP:20260422T013101Z
UID:78bd362a-25c6-4f41-b7c5-cb3406adf226
DTSTART;VALUE=DATE:20240513
DTEND;VALUE=DATE:20240513
DESCRIPTION:Spokes BMX
LOCATION: 2550 W Bennett  Springfield MO 65807 USA
SUMMARY:Practice
URL:/site/bmx_races/558371
END:VEVENT
END:VCALENDAR
