BEGIN:VCALENDAR
VERSION:2.0
PRODID:icalendar-ruby
CALSCALE:GREGORIAN
METHOD:PUBLISH
BEGIN:VEVENT
DTSTAMP:20260421T012550Z
UID:fb8c494e-9147-4985-b540-11d643a38d4d
DTSTART;VALUE=DATE:20240605
DTEND;VALUE=DATE:20240605
DESCRIPTION:First State BMX
LOCATION:1045 N Walnut St  Milford DE 19963 USA
SUMMARY:BMX Registration Day Single
URL:/site/bmx_races/558624
END:VEVENT
END:VCALENDAR
