BEGIN:VCALENDAR
VERSION:2.0
PRODID:icalendar-ruby
CALSCALE:GREGORIAN
METHOD:PUBLISH
BEGIN:VEVENT
DTSTAMP:20260421T021848Z
UID:f02233d5-aeeb-4b94-aff7-92f24d888c29
DTSTART;VALUE=DATE:20240809
DTEND;VALUE=DATE:20240809
DESCRIPTION:Mike Sedar BMX
LOCATION:789 College Dr  Casper WY 82601 USA
SUMMARY:Local Race Single
URL:/site/bmx_races/558694
END:VEVENT
END:VCALENDAR
