BEGIN:VCALENDAR
VERSION:2.0
PRODID:icalendar-ruby
CALSCALE:GREGORIAN
METHOD:PUBLISH
BEGIN:VEVENT
DTSTAMP:20260420T234407Z
UID:e16a9552-5fef-40c3-a130-5d8937d4004f
DTSTART;VALUE=DATE:20240903
DTEND;VALUE=DATE:20240903
DESCRIPTION:Mike Sedar BMX
LOCATION:789 College Dr  Casper WY 82601 USA
SUMMARY:Local Race Single
URL:/site/bmx_races/558703
END:VEVENT
END:VCALENDAR
