BEGIN:VCALENDAR
VERSION:2.0
PRODID:icalendar-ruby
CALSCALE:GREGORIAN
METHOD:PUBLISH
BEGIN:VEVENT
DTSTAMP:20260420T225504Z
UID:d4d9ac47-6d9e-4bd9-887c-010eb38b60e4
DTSTART;VALUE=DATE:20241002
DTEND;VALUE=DATE:20241002
DESCRIPTION:Mike Sedar BMX
LOCATION:789 College Dr  Casper WY 82601 USA
SUMMARY:Practice
URL:/site/bmx_races/558716
END:VEVENT
END:VCALENDAR
