BEGIN:VCALENDAR
VERSION:2.0
PRODID:icalendar-ruby
CALSCALE:GREGORIAN
METHOD:PUBLISH
BEGIN:VEVENT
DTSTAMP:20260421T122816Z
UID:7f8fcca6-08a1-4586-8a6c-28a6ddca8039
DTSTART;VALUE=DATE:20240324
DTEND;VALUE=DATE:20240324
DESCRIPTION:Hornet`s Nest BMX
LOCATION:6301 Beatties Ford Rd  Charlotte NC 28216 USA
SUMMARY:Race for Life Single
URL:/site/bmx_races/559105
END:VEVENT
END:VCALENDAR
