BEGIN:VCALENDAR
VERSION:2.0
PRODID:icalendar-ruby
CALSCALE:GREGORIAN
METHOD:PUBLISH
BEGIN:VEVENT
DTSTAMP:20260421T075327Z
UID:77429830-9397-48da-add5-83f37d710256
DTSTART;VALUE=DATE:20240610
DTEND;VALUE=DATE:20240610
DESCRIPTION:Eagle Park BMX
LOCATION:11800 N Horseshoe Bend Rd  Eagle ID 83616 USA
SUMMARY:Practice
URL:/site/bmx_races/559528
END:VEVENT
END:VCALENDAR
