BEGIN:VCALENDAR
VERSION:2.0
PRODID:icalendar-ruby
CALSCALE:GREGORIAN
METHOD:PUBLISH
BEGIN:VEVENT
DTSTAMP:20260421T024039Z
UID:b65a5994-d271-42e7-a3d9-1e9645a9e9ed
DTSTART;VALUE=DATE:20240928
DTEND;VALUE=DATE:20240928
DESCRIPTION:Eagle Park BMX
LOCATION:11800 N Horseshoe Bend Rd  Eagle ID 83616 USA
SUMMARY:Local Race Single
URL:/site/bmx_races/559554
END:VEVENT
END:VCALENDAR
