BEGIN:VCALENDAR
VERSION:2.0
PRODID:icalendar-ruby
CALSCALE:GREGORIAN
METHOD:PUBLISH
BEGIN:VEVENT
DTSTAMP:20260421T010027Z
UID:c86fd049-7b32-41f9-a98a-927b4df99c64
DTSTART;VALUE=DATE:20241012
DTEND;VALUE=DATE:20241012
DESCRIPTION:Eagle Park BMX
LOCATION:11800 N Horseshoe Bend Rd  Eagle ID 83616 USA
SUMMARY:Local Race Single
URL:/site/bmx_races/559558
END:VEVENT
END:VCALENDAR
