BEGIN:VCALENDAR
VERSION:2.0
PRODID:icalendar-ruby
CALSCALE:GREGORIAN
METHOD:PUBLISH
BEGIN:VEVENT
DTSTAMP:20260425T035501Z
UID:fed91400-b45a-47e4-b2be-d19d0b5249b4
DTSTART;VALUE=DATE:20241102
DTEND;VALUE=DATE:20241102
DESCRIPTION:Cape Cod BMX
LOCATION:65 Quaker Meetinghouse Rd   Sandwich MA 02563 USA
SUMMARY:Earned Double
URL:/site/bmx_races/560312
END:VEVENT
END:VCALENDAR
