BEGIN:VCALENDAR
VERSION:2.0
PRODID:icalendar-ruby
CALSCALE:GREGORIAN
METHOD:PUBLISH
BEGIN:VEVENT
DTSTAMP:20260422T055650Z
UID:bd8a63b2-9292-4ead-ac54-360a50faf1b9
DTSTART;VALUE=DATE:20240221
DTEND;VALUE=DATE:20240221
DESCRIPTION:Yuma BMX
LOCATION:3067 S Pacific Ave  Yuma AZ 85364 USA
SUMMARY:Local Race Single
URL:/site/bmx_races/560368
END:VEVENT
END:VCALENDAR
