BEGIN:VCALENDAR
VERSION:2.0
PRODID:icalendar-ruby
CALSCALE:GREGORIAN
METHOD:PUBLISH
BEGIN:VEVENT
DTSTAMP:20260420T170105Z
UID:52b88146-80a2-493b-aa5b-4e9939ebce0b
DTSTART;VALUE=DATE:20241109
DTEND;VALUE=DATE:20241109
DESCRIPTION:Marysville BMX
LOCATION:618 N Main St  Marysville OH 43040 USA
SUMMARY:Earned Double
URL:/site/bmx_races/560403
END:VEVENT
END:VCALENDAR
