BEGIN:VCALENDAR
VERSION:2.0
PRODID:icalendar-ruby
CALSCALE:GREGORIAN
METHOD:PUBLISH
BEGIN:VEVENT
DTSTAMP:20260425T154720Z
UID:09e4bc86-4abf-46bc-870d-4de65eec7a8f
DTSTART;VALUE=DATE:20240528
DTEND;VALUE=DATE:20240528
DESCRIPTION:Cape Cod BMX
LOCATION:65 Quaker Meetinghouse Rd   Sandwich MA 02563 USA
SUMMARY:Practice
URL:/site/bmx_races/560425
END:VEVENT
END:VCALENDAR
