BEGIN:VCALENDAR
VERSION:2.0
PRODID:icalendar-ruby
CALSCALE:GREGORIAN
METHOD:PUBLISH
BEGIN:VEVENT
DTSTAMP:20260425T135954Z
UID:a4966595-b000-4fa7-a824-17fe2440f8cd
DTSTART;VALUE=DATE:20240627
DTEND;VALUE=DATE:20240627
DESCRIPTION:Cape Cod BMX
LOCATION:65 Quaker Meetinghouse Rd   Sandwich MA 02563 USA
SUMMARY:Practice
URL:/site/bmx_races/560434
END:VEVENT
END:VCALENDAR
